Package: PCAtools Version: 2.18.0 Command: /Library/Frameworks/R.framework/Resources/bin/R CMD INSTALL PCAtools StartedAt: 2025-02-03 16:34:42 -0500 (Mon, 03 Feb 2025) EndedAt: 2025-02-03 16:35:52 -0500 (Mon, 03 Feb 2025) EllapsedTime: 70.0 seconds RetCode: 0 Status: OK