Package: PCAtools Version: 2.18.0 Command: /home/biocbuild/bbs-3.20-bioc/R/bin/R CMD check --install=check:PCAtools.install-out.txt --library=/home/biocbuild/bbs-3.20-bioc/R/site-library --timings PCAtools_2.18.0.tar.gz StartedAt: 2025-02-04 01:06:42 -0500 (Tue, 04 Feb 2025) EndedAt: 2025-02-04 01:12:45 -0500 (Tue, 04 Feb 2025) EllapsedTime: 362.4 seconds RetCode: 0 Status: OK CheckDir: PCAtools.Rcheck Warnings: 0