Package: PCAtools Version: 2.18.0 Command: chmod a+r PCAtools -R && F:\biocbuild\bbs-3.20-bioc\R\bin\R.exe CMD build --keep-empty-dirs --no-resave-data PCAtools StartedAt: 2025-02-03 21:07:45 -0500 (Mon, 03 Feb 2025) EndedAt: 2025-02-03 21:13:47 -0500 (Mon, 03 Feb 2025) EllapsedTime: 361.6 seconds RetCode: 0 Status: OK PackageFile: PCAtools_2.18.0.tar.gz PackageFileSize: 7.501 MiB