Package: PCAtools
Version: 2.18.0
Command: /home/biocbuild/R/R/bin/R CMD build --keep-empty-dirs --no-resave-data PCAtools
StartedAt: 2025-02-18 01:41:20 -0000 (Tue, 18 Feb 2025)
EndedAt: 2025-02-18 01:45:49 -0000 (Tue, 18 Feb 2025)
EllapsedTime: 269.2 seconds
RetCode: 0
Status: OK
PackageFile: PCAtools_2.18.0.tar.gz
PackageFileSize: 7.532 <A href="http://en.wikipedia.org/wiki/MiB" target="_blank">MiB</A>