Package: PDATK Version: 1.14.0 Command: /Library/Frameworks/R.framework/Resources/bin/R CMD check --install=check:PDATK.install-out.txt --library=/Library/Frameworks/R.framework/Resources/library --no-vignettes --timings PDATK_1.14.0.tar.gz StartedAt: 2025-02-01 04:19:59 -0500 (Sat, 01 Feb 2025) EndedAt: 2025-02-01 04:26:00 -0500 (Sat, 01 Feb 2025) EllapsedTime: 360.8 seconds RetCode: 0 Status: WARNINGS CheckDir: PDATK.Rcheck Warnings: 2