Package: PDATK Version: 1.14.0 Command: /Library/Frameworks/R.framework/Resources/bin/R CMD INSTALL PDATK StartedAt: 2025-01-30 18:25:32 -0500 (Thu, 30 Jan 2025) EndedAt: 2025-01-30 18:26:22 -0500 (Thu, 30 Jan 2025) EllapsedTime: 50.0 seconds RetCode: 0 Status: OK