Package: PDATK Version: 1.14.0 Command: /Library/Frameworks/R.framework/Resources/bin/R CMD build --keep-empty-dirs --no-resave-data PDATK StartedAt: 2025-01-30 21:45:33 -0500 (Thu, 30 Jan 2025) EndedAt: 2025-01-30 21:50:00 -0500 (Thu, 30 Jan 2025) EllapsedTime: 267.0 seconds RetCode: 0 Status: OK PackageFile: PDATK_1.14.0.tar.gz PackageFileSize: 3.004 MiB