Package: PDATK Version: 1.14.0 Command: /Library/Frameworks/R.framework/Resources/bin/R CMD check --install=check:PDATK.install-out.txt --library=/Library/Frameworks/R.framework/Resources/library --no-vignettes --timings PDATK_1.14.0.tar.gz StartedAt: 2025-01-31 07:53:08 -0500 (Fri, 31 Jan 2025) EndedAt: 2025-01-31 08:04:12 -0500 (Fri, 31 Jan 2025) EllapsedTime: 663.2 seconds RetCode: 0 Status: WARNINGS CheckDir: PDATK.Rcheck Warnings: 2