Package: PDATK Version: 1.14.0 Command: /home/biocbuild/bbs-3.20-bioc/R/bin/R CMD build --keep-empty-dirs --no-resave-data --md5 PDATK StartedAt: 2025-01-30 18:32:12 -0500 (Thu, 30 Jan 2025) EndedAt: 2025-01-30 18:33:56 -0500 (Thu, 30 Jan 2025) EllapsedTime: 104.1 seconds RetCode: 0 Status: OK PackageFile: PDATK_1.14.0.tar.gz PackageFileSize: 3.009 MiB