Package: PDATK Version: 1.14.0 Command: rm -rf PDATK.buildbin-libdir && mkdir PDATK.buildbin-libdir && F:\biocbuild\bbs-3.20-bioc\R\bin\R.exe CMD INSTALL --build --library=PDATK.buildbin-libdir PDATK_1.14.0.tar.gz StartedAt: 2025-01-31 09:15:34 -0500 (Fri, 31 Jan 2025) EndedAt: 2025-01-31 09:17:33 -0500 (Fri, 31 Jan 2025) EllapsedTime: 118.3 seconds RetCode: 0 Status: OK PackageFile: PDATK_1.14.0.zip PackageFileSize: 2.557 MiB