Package: PDATK Version: 1.14.0 Command: F:\biocbuild\bbs-3.20-bioc\R\bin\R.exe CMD INSTALL PDATK StartedAt: 2025-01-30 16:59:32 -0500 (Thu, 30 Jan 2025) EndedAt: 2025-01-30 17:00:40 -0500 (Thu, 30 Jan 2025) EllapsedTime: 67.8 seconds RetCode: 0 Status: OK