Package: PDATK Version: 1.14.0 Command: /home/biocbuild/R/R/bin/R CMD build --keep-empty-dirs --no-resave-data PDATK StartedAt: 2025-01-31 01:42:21 -0000 (Fri, 31 Jan 2025) EndedAt: 2025-01-31 01:44:48 -0000 (Fri, 31 Jan 2025) EllapsedTime: 147.1 seconds RetCode: 0 Status: OK PackageFile: PDATK_1.14.0.tar.gz PackageFileSize: 1.925 MiB