Package: PDATK Version: 1.14.0 Command: /home/biocbuild/R/R/bin/R CMD check --install=check:PDATK.install-out.txt --library=/home/biocbuild/R/R/site-library --no-vignettes --timings PDATK_1.14.0.tar.gz StartedAt: 2025-01-31 09:02:30 -0000 (Fri, 31 Jan 2025) EndedAt: 2025-01-31 09:08:51 -0000 (Fri, 31 Jan 2025) EllapsedTime: 380.4 seconds RetCode: 0 Status: WARNINGS CheckDir: PDATK.Rcheck Warnings: 2