Package: PDATK Version: 1.14.0 Command: /home/biocbuild/R/R/bin/R CMD INSTALL PDATK StartedAt: 2025-01-30 21:08:35 -0000 (Thu, 30 Jan 2025) EndedAt: 2025-01-30 21:09:27 -0000 (Thu, 30 Jan 2025) EllapsedTime: 51.9 seconds RetCode: 0 Status: OK