Package: PICS
Version: 2.50.0
Command: rm -rf PICS.buildbin-libdir && mkdir PICS.buildbin-libdir && /Users/biocbuild/BBS/utils/build-universal.sh PICS_2.50.0.tar.gz /Library/Frameworks/R.framework/Resources/bin/R PICS.buildbin-libdir
StartedAt: 2024-11-20 04:42:39 -0500 (Wed, 20 Nov 2024)
EndedAt: 2024-11-20 04:43:36 -0500 (Wed, 20 Nov 2024)
EllapsedTime: 57.0 seconds
RetCode: 0
Status: OK
PackageFile: PICS_2.50.0.tgz
PackageFileSize: 1.642 <A href="http://en.wikipedia.org/wiki/MiB" target="_blank">MiB</A>