Package: PICS Version: 2.50.0 Command: /home/biocbuild/bbs-3.20-bioc/R/bin/R CMD build --keep-empty-dirs --no-resave-data --md5 PICS StartedAt: 2025-02-03 18:44:28 -0500 (Mon, 03 Feb 2025) EndedAt: 2025-02-03 18:45:18 -0500 (Mon, 03 Feb 2025) EllapsedTime: 50.1 seconds RetCode: 0 Status: OK PackageFile: PICS_2.50.0.tar.gz PackageFileSize: 709.9 KiB