Package: PICS Version: 2.50.0 Command: /home/biocbuild/bbs-3.20-bioc/R/bin/R CMD check --install=check:PICS.install-out.txt --library=/home/biocbuild/bbs-3.20-bioc/R/site-library --timings PICS_2.50.0.tar.gz StartedAt: 2025-02-04 01:14:02 -0500 (Tue, 04 Feb 2025) EndedAt: 2025-02-04 01:16:47 -0500 (Tue, 04 Feb 2025) EllapsedTime: 165.2 seconds RetCode: 0 Status: OK CheckDir: PICS.Rcheck Warnings: 0