Package: PICS Version: 2.50.0 Command: /home/biocbuild/bbs-3.20-bioc/R/bin/R CMD INSTALL PICS StartedAt: 2025-02-03 15:29:30 -0500 (Mon, 03 Feb 2025) EndedAt: 2025-02-03 15:30:03 -0500 (Mon, 03 Feb 2025) EllapsedTime: 32.8 seconds RetCode: 0 Status: OK