Package: PICS Version: 2.50.0 Command: /home/biocbuild/R/R/bin/R CMD build --keep-empty-dirs --no-resave-data PICS StartedAt: 2025-02-04 01:51:33 -0000 (Tue, 04 Feb 2025) EndedAt: 2025-02-04 01:52:36 -0000 (Tue, 04 Feb 2025) EllapsedTime: 63.1 seconds RetCode: 0 Status: OK PackageFile: PICS_2.50.0.tar.gz PackageFileSize: 676.2 KiB