Package: PIUMA Version: 1.2.0 Command: /home/biocbuild/R/R/bin/R CMD build --keep-empty-dirs --no-resave-data PIUMA StartedAt: 2025-02-04 01:52:08 -0000 (Tue, 04 Feb 2025) EndedAt: 2025-02-04 01:53:34 -0000 (Tue, 04 Feb 2025) EllapsedTime: 86.1 seconds RetCode: 1 Status: ERROR PackageFile: None PackageFileSize: NA