Package: POMA Version: 1.16.0 Command: /home/biocbuild/bbs-3.20-bioc/R/bin/R CMD build --keep-empty-dirs --no-resave-data --md5 POMA StartedAt: 2025-02-03 18:46:02 -0500 (Mon, 03 Feb 2025) EndedAt: 2025-02-03 18:46:36 -0500 (Mon, 03 Feb 2025) EllapsedTime: 34.0 seconds RetCode: 0 Status: OK PackageFile: POMA_1.16.0.tar.gz PackageFileSize: 2.13 MiB