Package: POMA Version: 1.16.0 Command: /home/biocbuild/R/R/bin/R CMD INSTALL POMA StartedAt: 2025-02-17 21:08:45 -0000 (Mon, 17 Feb 2025) EndedAt: 2025-02-17 21:08:50 -0000 (Mon, 17 Feb 2025) EllapsedTime: 4.5 seconds RetCode: 0 Status: OK