Package: POWSC Version: 1.14.0 Command: rm -rf POWSC.buildbin-libdir && mkdir POWSC.buildbin-libdir && /Users/biocbuild/BBS/utils/build-universal.sh POWSC_1.14.0.tar.gz /Library/Frameworks/R.framework/Resources/bin/R POWSC.buildbin-libdir StartedAt: 2025-02-01 16:14:14 -0500 (Sat, 01 Feb 2025) EndedAt: 2025-02-01 16:14:50 -0500 (Sat, 01 Feb 2025) EllapsedTime: 35.9 seconds RetCode: 0 Status: OK PackageFile: POWSC_1.14.0.tgz PackageFileSize: 1.404 MiB