Package: POWSC Version: 1.14.0 Command: /Library/Frameworks/R.framework/Resources/bin/R CMD INSTALL POWSC StartedAt: 2025-01-30 15:35:02 -0500 (Thu, 30 Jan 2025) EndedAt: 2025-01-30 15:35:34 -0500 (Thu, 30 Jan 2025) EllapsedTime: 32.7 seconds RetCode: 0 Status: OK