Package: POWSC Version: 1.14.0 Command: /home/biocbuild/bbs-3.20-bioc/R/bin/R CMD check --install=check:POWSC.install-out.txt --library=/home/biocbuild/bbs-3.20-bioc/R/site-library --timings POWSC_1.14.0.tar.gz StartedAt: 2025-01-31 01:08:05 -0500 (Fri, 31 Jan 2025) EndedAt: 2025-01-31 01:13:01 -0500 (Fri, 31 Jan 2025) EllapsedTime: 296.3 seconds RetCode: 0 Status: OK CheckDir: POWSC.Rcheck Warnings: 0