Package: POWSC Version: 1.14.0 Command: rm -rf POWSC.buildbin-libdir && mkdir POWSC.buildbin-libdir && F:\biocbuild\bbs-3.20-bioc\R\bin\R.exe CMD INSTALL --build --library=POWSC.buildbin-libdir POWSC_1.14.0.tar.gz StartedAt: 2025-01-31 09:18:17 -0500 (Fri, 31 Jan 2025) EndedAt: 2025-01-31 09:18:53 -0500 (Fri, 31 Jan 2025) EllapsedTime: 35.8 seconds RetCode: 0 Status: OK PackageFile: POWSC_1.14.0.zip PackageFileSize: 1.338 MiB