Package: POWSC Version: 1.14.0 Command: chmod a+r POWSC -R && F:\biocbuild\bbs-3.20-bioc\R\bin\R.exe CMD build --keep-empty-dirs --no-resave-data POWSC StartedAt: 2025-01-30 21:03:15 -0500 (Thu, 30 Jan 2025) EndedAt: 2025-01-30 21:04:40 -0500 (Thu, 30 Jan 2025) EllapsedTime: 85.3 seconds RetCode: 0 Status: OK PackageFile: POWSC_1.14.0.tar.gz PackageFileSize: 1.116 MiB