Package: POWSC Version: 1.14.0 Command: /home/biocbuild/R/R/bin/R CMD build --keep-empty-dirs --no-resave-data POWSC StartedAt: 2025-01-31 01:49:30 -0000 (Fri, 31 Jan 2025) EndedAt: 2025-01-31 01:51:13 -0000 (Fri, 31 Jan 2025) EllapsedTime: 103.1 seconds RetCode: 0 Status: OK PackageFile: POWSC_1.14.0.tar.gz PackageFileSize: 1.171 MiB