Package: PREDA
Version: 1.52.0
Command: /Library/Frameworks/R.framework/Resources/bin/R CMD INSTALL PREDA
StartedAt: 2025-02-17 17:31:00 -0500 (Mon, 17 Feb 2025)
EndedAt: 2025-02-17 17:31:24 -0500 (Mon, 17 Feb 2025)
EllapsedTime: 24.0 seconds
RetCode: 0
Status: OK