Package: PREDA Version: 1.52.0 Command: rm -rf PREDA.buildbin-libdir && mkdir PREDA.buildbin-libdir && /Users/biocbuild/BBS/utils/build-universal.sh PREDA_1.52.0.tar.gz /Library/Frameworks/R.framework/Resources/bin/R PREDA.buildbin-libdir StartedAt: 2025-02-04 13:49:23 -0500 (Tue, 04 Feb 2025) EndedAt: 2025-02-04 13:50:42 -0500 (Tue, 04 Feb 2025) EllapsedTime: 78.9 seconds RetCode: 0 Status: OK PackageFile: PREDA_1.52.0.tgz PackageFileSize: 1.991 MiB