Package: PREDA Version: 1.52.0 Command: /Library/Frameworks/R.framework/Resources/bin/R CMD build --keep-empty-dirs --no-resave-data PREDA StartedAt: 2025-02-03 21:22:49 -0500 (Mon, 03 Feb 2025) EndedAt: 2025-02-03 21:27:22 -0500 (Mon, 03 Feb 2025) EllapsedTime: 272.4 seconds RetCode: 0 Status: OK PackageFile: PREDA_1.52.0.tar.gz PackageFileSize: 2.005 MiB