Package: PREDA Version: 1.52.0 Command: /Library/Frameworks/R.framework/Resources/bin/R CMD check --install=check:PREDA.install-out.txt --library=/Library/Frameworks/R.framework/Resources/library --no-vignettes --timings PREDA_1.52.0.tar.gz StartedAt: 2025-02-04 08:11:27 -0500 (Tue, 04 Feb 2025) EndedAt: 2025-02-04 08:15:40 -0500 (Tue, 04 Feb 2025) EllapsedTime: 252.9 seconds RetCode: 0 Status: WARNINGS CheckDir: PREDA.Rcheck Warnings: 1