Package: PREDA Version: 1.52.0 Command: /home/biocbuild/R/R/bin/R CMD build --keep-empty-dirs --no-resave-data PREDA StartedAt: 2025-02-04 01:55:13 -0000 (Tue, 04 Feb 2025) EndedAt: 2025-02-04 01:57:43 -0000 (Tue, 04 Feb 2025) EllapsedTime: 150.1 seconds RetCode: 0 Status: OK PackageFile: PREDA_1.52.0.tar.gz PackageFileSize: 1.991 MiB