Package: PREDA Version: 1.52.0 Command: /home/biocbuild/R/R/bin/R CMD INSTALL PREDA StartedAt: 2025-02-03 21:09:42 -0000 (Mon, 03 Feb 2025) EndedAt: 2025-02-03 21:10:09 -0000 (Mon, 03 Feb 2025) EllapsedTime: 27.1 seconds RetCode: 0 Status: OK