Package: PROMISE Version: 1.58.0 Command: /Library/Frameworks/R.framework/Resources/bin/R CMD build --keep-empty-dirs --no-resave-data PROMISE StartedAt: 2025-01-31 05:40:47 -0500 (Fri, 31 Jan 2025) EndedAt: 2025-01-31 05:41:19 -0500 (Fri, 31 Jan 2025) EllapsedTime: 32.0 seconds RetCode: 0 Status: OK PackageFile: PROMISE_1.58.0.tar.gz PackageFileSize: 135.3 KiB