Package: PROMISE Version: 1.58.0 Command: /Library/Frameworks/R.framework/Resources/bin/R CMD check --install=check:PROMISE.install-out.txt --library=/Library/Frameworks/R.framework/Resources/library --no-vignettes --timings PROMISE_1.58.0.tar.gz StartedAt: 2025-02-01 05:18:05 -0500 (Sat, 01 Feb 2025) EndedAt: 2025-02-01 05:20:11 -0500 (Sat, 01 Feb 2025) EllapsedTime: 125.5 seconds RetCode: 0 Status: OK CheckDir: PROMISE.Rcheck Warnings: 0