Package: PROMISE Version: 1.58.0 Command: /Library/Frameworks/R.framework/Resources/bin/R CMD INSTALL PROMISE StartedAt: 2025-01-30 15:45:06 -0500 (Thu, 30 Jan 2025) EndedAt: 2025-01-30 15:45:22 -0500 (Thu, 30 Jan 2025) EllapsedTime: 16.8 seconds RetCode: 0 Status: OK