Package: PROMISE Version: 1.58.0 Command: /Library/Frameworks/R.framework/Resources/bin/R CMD build --keep-empty-dirs --no-resave-data PROMISE StartedAt: 2025-01-30 21:57:56 -0500 (Thu, 30 Jan 2025) EndedAt: 2025-01-30 21:58:53 -0500 (Thu, 30 Jan 2025) EllapsedTime: 57.5 seconds RetCode: 0 Status: OK PackageFile: PROMISE_1.58.0.tar.gz PackageFileSize: 135.3 KiB