Package: PROMISE Version: 1.58.0 Command: /Library/Frameworks/R.framework/Resources/bin/R CMD check --install=check:PROMISE.install-out.txt --library=/Library/Frameworks/R.framework/Resources/library --no-vignettes --timings PROMISE_1.58.0.tar.gz StartedAt: 2025-01-31 08:19:14 -0500 (Fri, 31 Jan 2025) EndedAt: 2025-01-31 08:23:05 -0500 (Fri, 31 Jan 2025) EllapsedTime: 231.0 seconds RetCode: 0 Status: OK CheckDir: PROMISE.Rcheck Warnings: 0