Package: PROMISE Version: 1.58.0 Command: rm -rf PROMISE.buildbin-libdir && mkdir PROMISE.buildbin-libdir && F:\biocbuild\bbs-3.20-bioc\R\bin\R.exe CMD INSTALL --build --library=PROMISE.buildbin-libdir PROMISE_1.58.0.tar.gz StartedAt: 2025-01-31 09:19:11 -0500 (Fri, 31 Jan 2025) EndedAt: 2025-01-31 09:19:33 -0500 (Fri, 31 Jan 2025) EllapsedTime: 21.7 seconds RetCode: 0 Status: OK PackageFile: PROMISE_1.58.0.zip PackageFileSize: 182.4 KiB