Package: PROMISE Version: 1.58.0 Command: chmod a+r PROMISE -R && F:\biocbuild\bbs-3.20-bioc\R\bin\R.exe CMD build --keep-empty-dirs --no-resave-data PROMISE StartedAt: 2025-01-30 21:06:40 -0500 (Thu, 30 Jan 2025) EndedAt: 2025-01-30 21:07:11 -0500 (Thu, 30 Jan 2025) EllapsedTime: 31.2 seconds RetCode: 0 Status: OK PackageFile: PROMISE_1.58.0.tar.gz PackageFileSize: 135.7 KiB