Package: PROMISE Version: 1.58.0 Command: F:\biocbuild\bbs-3.20-bioc\R\bin\R.exe CMD check --no-multiarch --install=check:PROMISE.install-out.txt --library=F:\biocbuild\bbs-3.20-bioc\R\library --no-vignettes --timings PROMISE_1.58.0.tar.gz StartedAt: 2025-01-31 05:16:30 -0500 (Fri, 31 Jan 2025) EndedAt: 2025-01-31 05:18:40 -0500 (Fri, 31 Jan 2025) EllapsedTime: 129.4 seconds RetCode: 0 Status: OK CheckDir: PROMISE.Rcheck Warnings: 0