Package: PROMISE Version: 1.58.0 Command: /home/biocbuild/R/R/bin/R CMD build --keep-empty-dirs --no-resave-data PROMISE StartedAt: 2025-01-31 01:52:26 -0000 (Fri, 31 Jan 2025) EndedAt: 2025-01-31 01:52:56 -0000 (Fri, 31 Jan 2025) EllapsedTime: 30.0 seconds RetCode: 0 Status: OK PackageFile: PROMISE_1.58.0.tar.gz PackageFileSize: 132.4 KiB