Package: PROMISE Version: 1.58.0 Command: /home/biocbuild/R/R/bin/R CMD check --install=check:PROMISE.install-out.txt --library=/home/biocbuild/R/R/site-library --no-vignettes --timings PROMISE_1.58.0.tar.gz StartedAt: 2025-01-31 09:18:39 -0000 (Fri, 31 Jan 2025) EndedAt: 2025-01-31 09:20:50 -0000 (Fri, 31 Jan 2025) EllapsedTime: 131.1 seconds RetCode: 0 Status: OK CheckDir: PROMISE.Rcheck Warnings: 0