Package: PROMISE Version: 1.58.0 Command: /home/biocbuild/R/R/bin/R CMD INSTALL PROMISE StartedAt: 2025-01-30 20:24:00 -0000 (Thu, 30 Jan 2025) EndedAt: 2025-01-30 20:24:18 -0000 (Thu, 30 Jan 2025) EllapsedTime: 18.3 seconds RetCode: 0 Status: OK