Package: PRONE Version: 1.0.2 Command: /Library/Frameworks/R.framework/Resources/bin/R CMD build --keep-empty-dirs --no-resave-data PRONE StartedAt: 2025-01-31 05:41:19 -0500 (Fri, 31 Jan 2025) EndedAt: 2025-01-31 05:43:25 -0500 (Fri, 31 Jan 2025) EllapsedTime: 126.7 seconds RetCode: 0 Status: OK PackageFile: PRONE_1.0.2.tar.gz PackageFileSize: 10.03 MiB