Package: PRONE Version: 1.0.2 Command: /Library/Frameworks/R.framework/Resources/bin/R CMD check --install=check:PRONE.install-out.txt --library=/Library/Frameworks/R.framework/Resources/library --no-vignettes --timings PRONE_1.0.2.tar.gz StartedAt: 2025-02-01 05:19:04 -0500 (Sat, 01 Feb 2025) EndedAt: 2025-02-01 05:24:42 -0500 (Sat, 01 Feb 2025) EllapsedTime: 338.1 seconds RetCode: 0 Status: OK CheckDir: PRONE.Rcheck Warnings: 0