Package: PRONE Version: 1.0.2 Command: /Library/Frameworks/R.framework/Resources/bin/R CMD INSTALL PRONE StartedAt: 2025-01-30 17:45:06 -0500 (Thu, 30 Jan 2025) EndedAt: 2025-01-30 17:45:48 -0500 (Thu, 30 Jan 2025) EllapsedTime: 42.3 seconds RetCode: 0 Status: OK