Package: PRONE Version: 1.0.2 Command: /Library/Frameworks/R.framework/Resources/bin/R CMD build --keep-empty-dirs --no-resave-data PRONE StartedAt: 2025-02-03 21:25:00 -0500 (Mon, 03 Feb 2025) EndedAt: 2025-02-03 21:29:01 -0500 (Mon, 03 Feb 2025) EllapsedTime: 241.2 seconds RetCode: 0 Status: OK PackageFile: PRONE_1.0.2.tar.gz PackageFileSize: 9.991 MiB