Package: PRONE Version: 1.0.2 Command: /home/biocbuild/bbs-3.20-bioc/R/bin/R CMD INSTALL PRONE StartedAt: 2025-01-30 15:52:17 -0500 (Thu, 30 Jan 2025) EndedAt: 2025-01-30 15:53:00 -0500 (Thu, 30 Jan 2025) EllapsedTime: 43.2 seconds RetCode: 0 Status: OK